BEGIN:VCALENDAR
VERSION:2.0
PRODID:-//Nachfolge Allianz Ruhr - ECPv6.15.20//NONSGML v1.0//EN
CALSCALE:GREGORIAN
METHOD:PUBLISH
X-ORIGINAL-URL:https://nachfolge.ruhr
X-WR-CALDESC:Veranstaltungen für Nachfolge Allianz Ruhr
REFRESH-INTERVAL;VALUE=DURATION:PT1H
X-Robots-Tag:noindex
X-PUBLISHED-TTL:PT1H
BEGIN:VTIMEZONE
TZID:Europe/Berlin
BEGIN:DAYLIGHT
TZOFFSETFROM:+0100
TZOFFSETTO:+0200
TZNAME:CEST
DTSTART:20240331T010000
END:DAYLIGHT
BEGIN:STANDARD
TZOFFSETFROM:+0200
TZOFFSETTO:+0100
TZNAME:CET
DTSTART:20241027T010000
END:STANDARD
BEGIN:DAYLIGHT
TZOFFSETFROM:+0100
TZOFFSETTO:+0200
TZNAME:CEST
DTSTART:20250330T010000
END:DAYLIGHT
BEGIN:STANDARD
TZOFFSETFROM:+0200
TZOFFSETTO:+0100
TZNAME:CET
DTSTART:20251026T010000
END:STANDARD
BEGIN:DAYLIGHT
TZOFFSETFROM:+0100
TZOFFSETTO:+0200
TZNAME:CEST
DTSTART:20260329T010000
END:DAYLIGHT
BEGIN:STANDARD
TZOFFSETFROM:+0200
TZOFFSETTO:+0100
TZNAME:CET
DTSTART:20261025T010000
END:STANDARD
END:VTIMEZONE
BEGIN:VEVENT
DTSTART;TZID=Europe/Berlin:20251029T160000
DTEND;TZID=Europe/Berlin:20251029T173000
DTSTAMP:20260421T232038
CREATED:20250327T141758Z
LAST-MODIFIED:20250328T080128Z
UID:1766-1761753600-1761759000@nachfolge.ruhr
SUMMARY:FOKUS Unternehmensnachfolge: Strategische Finanzierungsmöglichkeiten für Unternehmensübernahmen - Die Rolle von öffentlichen Fördermitteln und Bürgschaften
DESCRIPTION:Anmeldelink \nKurz und kompakt lernen Sie verschiedene Optionen der Nachfolgefinanzierung\, Fördermöglichkeiten von Bund und Land\, Ansatzpunkte zur Zinsoptimierung sowie Möglichkeiten der Einbindung von öffentlichen Förderinstituten zur Schließung von Besicherungslücken kennen. \nMario Döring\, Finanzierungsspezialist im Beratungscenter Wirtschaftsförderung der NRW.BANK\nIngo Otten\, Regionalleiter Süd\, Bürgschaftsbank NRW
URL:https://nachfolge.ruhr/termin/fokus-unternehmensnachfolge-strategische-finanzierungsmoeglichkeiten-fuer-unternehmensuebernahmen-die-rolle-von-oeffentlichen-foerdermitteln-und-buergschaften/
LOCATION:Online
CATEGORIES:Webinar
ORGANIZER;CN="IHK Mittleres Ruhrgebiet":MAILTO:hierweck@bochum.ihk.de
END:VEVENT
END:VCALENDAR