BEGIN:VCALENDAR
VERSION:2.0
PRODID:-//Nachfolge Allianz Ruhr - ECPv6.15.20//NONSGML v1.0//EN
CALSCALE:GREGORIAN
METHOD:PUBLISH
X-ORIGINAL-URL:https://nachfolge.ruhr
X-WR-CALDESC:Veranstaltungen für Nachfolge Allianz Ruhr
REFRESH-INTERVAL;VALUE=DURATION:PT1H
X-Robots-Tag:noindex
X-PUBLISHED-TTL:PT1H
BEGIN:VTIMEZONE
TZID:Europe/Berlin
BEGIN:DAYLIGHT
TZOFFSETFROM:+0100
TZOFFSETTO:+0200
TZNAME:CEST
DTSTART:20240331T010000
END:DAYLIGHT
BEGIN:STANDARD
TZOFFSETFROM:+0200
TZOFFSETTO:+0100
TZNAME:CET
DTSTART:20241027T010000
END:STANDARD
BEGIN:DAYLIGHT
TZOFFSETFROM:+0100
TZOFFSETTO:+0200
TZNAME:CEST
DTSTART:20250330T010000
END:DAYLIGHT
BEGIN:STANDARD
TZOFFSETFROM:+0200
TZOFFSETTO:+0100
TZNAME:CET
DTSTART:20251026T010000
END:STANDARD
BEGIN:DAYLIGHT
TZOFFSETFROM:+0100
TZOFFSETTO:+0200
TZNAME:CEST
DTSTART:20260329T010000
END:DAYLIGHT
BEGIN:STANDARD
TZOFFSETFROM:+0200
TZOFFSETTO:+0100
TZNAME:CET
DTSTART:20261025T010000
END:STANDARD
END:VTIMEZONE
BEGIN:VEVENT
DTSTART;TZID=Europe/Berlin:20251210T160000
DTEND;TZID=Europe/Berlin:20251210T173000
DTSTAMP:20260421T214104
CREATED:20250327T142159Z
LAST-MODIFIED:20250328T080027Z
UID:1770-1765382400-1765387800@nachfolge.ruhr
SUMMARY:FOKUS Unternehmensnachfolge: Nachfolge ist weiblich - Fachimpuls und Expertinnengespräch zur erfolgreichen Nachfolgegestaltung
DESCRIPTION:Anmeldelink \nKurz und kompakt erfolgt ein fachlicher Blick auf die Unternehmensübernahme durch Frauen und wir kommen mit erfolgreichen Nachfolgerinnen zu Gestaltungsmöglichkeiten\, Hürden und Gelingensfaktoren ins Gespräch. \nDr. Miriam Lehmann-Hiepler\, IHK Düsseldorf\nMaren Lorth\, Mi(de) – Mittelstand denken und Unternehmerinnen im Talk
URL:https://nachfolge.ruhr/termin/fokus-unternehmensnachfolge-nachfolge-ist-weiblich-fachimpuls-und-expertinnengespraech-zur-erfolgreichen-nachfolgegestaltung/
LOCATION:Online
CATEGORIES:Webinar
ORGANIZER;CN="IHK Mittleres Ruhrgebiet":MAILTO:hierweck@bochum.ihk.de
END:VEVENT
END:VCALENDAR