BEGIN:VCALENDAR
VERSION:2.0
PRODID:-//Nachfolge Allianz Ruhr - ECPv6.15.20//NONSGML v1.0//EN
CALSCALE:GREGORIAN
METHOD:PUBLISH
X-WR-CALNAME:Nachfolge Allianz Ruhr
X-ORIGINAL-URL:https://nachfolge.ruhr
X-WR-CALDESC:Veranstaltungen für Nachfolge Allianz Ruhr
REFRESH-INTERVAL;VALUE=DURATION:PT1H
X-Robots-Tag:noindex
X-PUBLISHED-TTL:PT1H
BEGIN:VTIMEZONE
TZID:Europe/Berlin
BEGIN:DAYLIGHT
TZOFFSETFROM:+0100
TZOFFSETTO:+0200
TZNAME:CEST
DTSTART:20250330T010000
END:DAYLIGHT
BEGIN:STANDARD
TZOFFSETFROM:+0200
TZOFFSETTO:+0100
TZNAME:CET
DTSTART:20251026T010000
END:STANDARD
BEGIN:DAYLIGHT
TZOFFSETFROM:+0100
TZOFFSETTO:+0200
TZNAME:CEST
DTSTART:20260329T010000
END:DAYLIGHT
BEGIN:STANDARD
TZOFFSETFROM:+0200
TZOFFSETTO:+0100
TZNAME:CET
DTSTART:20261025T010000
END:STANDARD
BEGIN:DAYLIGHT
TZOFFSETFROM:+0100
TZOFFSETTO:+0200
TZNAME:CEST
DTSTART:20270328T010000
END:DAYLIGHT
BEGIN:STANDARD
TZOFFSETFROM:+0200
TZOFFSETTO:+0100
TZNAME:CET
DTSTART:20271031T010000
END:STANDARD
END:VTIMEZONE
BEGIN:VEVENT
DTSTART;TZID=Europe/Berlin:20260123T100000
DTEND;TZID=Europe/Berlin:20260123T113000
DTSTAMP:20260421T195202
CREATED:20251217T135722Z
LAST-MODIFIED:20251217T140023Z
UID:2068-1769162400-1769167800@nachfolge.ruhr
SUMMARY:CEIT Practitioner Series - Nachfolge statt Neugründung: Unternehmerische Chancen im Mittelstand
DESCRIPTION:Die Industrie- und Handelskammer (IHK) Mittleres Ruhrgebiet ist zentrale Ansprechpartnerin für Unternehmen in der Region und unterstützt Gründer/innen\, Unternehmer/innen sowie Nachfolgeinteressierte in allen Phasen der Unternehmensentwicklung. Ein besonderer Schwerpunkt liegt auf dem Thema Unternehmensnachfolge\, das für viele kleine und mittlere Unternehmen eine der größten strategischen Herausforderungen darstellt. Die IHK begleitet Nachfolgeprozesse ganzheitlich – von der frühzeitigen Sensibilisierung über die strukturierte Vorbereitung bis hin zur konkreten Umsetzung einer Übergabe. Dabei stehen sowohl familieninterne Nachfolgen als auch externe Lösungen\, etwa durch Management-Buy-ins\, Management-Buy-outs oder Unternehmensübernahmen\, im Fokus. Neben fachlicher Beratung bietet die IHK Zugang zu Netzwerken\, Informationsangeboten und praxisnahen Unterstützungsformaten für Übergebende und Übernehmende. \nIn ihrem Vortrag erläutern Julian Mikulik und Hans Hierweck von der IHK Mittleres Ruhrgebiet\, wie Unternehmensnachfolgen erfolgreich vorbereitet und umgesetzt werden können. Sie zeigen typische Herausforderungen\, Erfolgsfaktoren und Fallstricke auf und geben praxisnahe Einblicke in den Nachfolgeprozess – von der ersten Orientierung über die Bewertung und Finanzierung bis hin zur Übergabe. Der Vortrag richtet sich an Studierende\, Gründungsinteressierte und zukünftige Unternehmer/innen\, die sich mit dem Thema Unternehmensnachfolge als Karriere- und Gründungsoption auseinandersetzen möchten.
URL:https://nachfolge.ruhr/termin/ceit-practitioner-series-nachfolge-statt-neugruendung-unternehmerische-chancen-im-mittelstand/
LOCATION:Online
CATEGORIES:Webinar
ORGANIZER;CN="Nachfolgeallianz":MAILTO:hierweck@bochum.ihk.de
END:VEVENT
END:VCALENDAR