BEGIN:VCALENDAR
VERSION:2.0
PRODID:-//Nachfolge Allianz Ruhr - ECPv6.15.20//NONSGML v1.0//EN
CALSCALE:GREGORIAN
METHOD:PUBLISH
X-ORIGINAL-URL:https://nachfolge.ruhr
X-WR-CALDESC:Veranstaltungen für Nachfolge Allianz Ruhr
REFRESH-INTERVAL;VALUE=DURATION:PT1H
X-Robots-Tag:noindex
X-PUBLISHED-TTL:PT1H
BEGIN:VTIMEZONE
TZID:Europe/Berlin
BEGIN:DAYLIGHT
TZOFFSETFROM:+0100
TZOFFSETTO:+0200
TZNAME:CEST
DTSTART:20250330T010000
END:DAYLIGHT
BEGIN:STANDARD
TZOFFSETFROM:+0200
TZOFFSETTO:+0100
TZNAME:CET
DTSTART:20251026T010000
END:STANDARD
BEGIN:DAYLIGHT
TZOFFSETFROM:+0100
TZOFFSETTO:+0200
TZNAME:CEST
DTSTART:20260329T010000
END:DAYLIGHT
BEGIN:STANDARD
TZOFFSETFROM:+0200
TZOFFSETTO:+0100
TZNAME:CET
DTSTART:20261025T010000
END:STANDARD
BEGIN:DAYLIGHT
TZOFFSETFROM:+0100
TZOFFSETTO:+0200
TZNAME:CEST
DTSTART:20270328T010000
END:DAYLIGHT
BEGIN:STANDARD
TZOFFSETFROM:+0200
TZOFFSETTO:+0100
TZNAME:CET
DTSTART:20271031T010000
END:STANDARD
END:VTIMEZONE
BEGIN:VEVENT
DTSTART;TZID=Europe/Berlin:20260715T100000
DTEND;TZID=Europe/Berlin:20260715T140000
DTSTAMP:20260419T231044
CREATED:20251217T124133Z
LAST-MODIFIED:20251217T124133Z
UID:2063-1784109600-1784124000@nachfolge.ruhr
SUMMARY:Nachfolgesprechtag: Recht und Steuern
DESCRIPTION:Anmeldelink folgt.\nBei Interesse vorerst bitte Mailkontakt mit hierweck@bochum.ihk.de aufnehmen. \nGemeinsam mit Expert:innen der StB/WP-Gesellschaft zeptrum Dr. Adamsen und von Aulinger Rechtsanwälte aus Bochum bietet die IHK mit der Nachfolge Allianz Ruhr Sprechtage zur Unternehmensnachfolge an. \nSie erhalten dabei individuell und unternehmensbezogen die Möglichkeit\, sich im vertraulichen Einzelgespräch kompetent und kostenfrei zu grundlegenden Fragen einer internen oder externen Unternehmensnachfolge auszutauschen. Unsere Expert:innen geben in einem solchen Gespräch eine erste Einschätzung zu Ihrem Vorhaben\, kanalisieren gemeinsam mit Ihnen sich abzeichnende Probleme idealerweise bereits in einem frühen Stadium des Nachfolgeprozesses und entwickeln erste Lösungsansätze. Insofern leistet unser Sprechtag Unternehmensnachfolge einen Beitrag\, typische Fehler im Nachfolgeprozess zu vermeiden und so den Unternehmensübergang am Ende erfolgreich zu bewältigen.
URL:https://nachfolge.ruhr/termin/nachfolgesprechtag-recht-und-steuern-5/
LOCATION:IHK Mittleres Ruhrgebiet\, Ostring 30-32\, Bochum\, 44787\, Germany
CATEGORIES:Sprechtag
ORGANIZER;CN="Nachfolgeallianz":MAILTO:hierweck@bochum.ihk.de
END:VEVENT
END:VCALENDAR