BEGIN:VCALENDAR
VERSION:2.0
PRODID:-//Nachfolge Allianz Ruhr - ECPv6.15.20//NONSGML v1.0//EN
CALSCALE:GREGORIAN
METHOD:PUBLISH
X-ORIGINAL-URL:https://nachfolge.ruhr
X-WR-CALDESC:Veranstaltungen für Nachfolge Allianz Ruhr
REFRESH-INTERVAL;VALUE=DURATION:PT1H
X-Robots-Tag:noindex
X-PUBLISHED-TTL:PT1H
BEGIN:VTIMEZONE
TZID:Europe/Berlin
BEGIN:DAYLIGHT
TZOFFSETFROM:+0100
TZOFFSETTO:+0200
TZNAME:CEST
DTSTART:20250330T010000
END:DAYLIGHT
BEGIN:STANDARD
TZOFFSETFROM:+0200
TZOFFSETTO:+0100
TZNAME:CET
DTSTART:20251026T010000
END:STANDARD
BEGIN:DAYLIGHT
TZOFFSETFROM:+0100
TZOFFSETTO:+0200
TZNAME:CEST
DTSTART:20260329T010000
END:DAYLIGHT
BEGIN:STANDARD
TZOFFSETFROM:+0200
TZOFFSETTO:+0100
TZNAME:CET
DTSTART:20261025T010000
END:STANDARD
BEGIN:DAYLIGHT
TZOFFSETFROM:+0100
TZOFFSETTO:+0200
TZNAME:CEST
DTSTART:20270328T010000
END:DAYLIGHT
BEGIN:STANDARD
TZOFFSETFROM:+0200
TZOFFSETTO:+0100
TZNAME:CET
DTSTART:20271031T010000
END:STANDARD
END:VTIMEZONE
BEGIN:VEVENT
DTSTART;TZID=Europe/Berlin:20260923T100000
DTEND;TZID=Europe/Berlin:20260923T150000
DTSTAMP:20260420T024052
CREATED:20260309T110126Z
LAST-MODIFIED:20260309T110126Z
UID:2080-1790157600-1790175600@nachfolge.ruhr
SUMMARY:Franchise Sprechtag
DESCRIPTION:In Kooperation mit der IHK zu Essen bietet wir eine kostenfreie Erstberatung für alle\, die sich im Rahmen eines Franchise-Modells selbstständig machen möchten\, an.\n\n\n\nInsbesondere für Gründungsinteressierte\, die den Einstieg in die Selbständigkeit mit einem erprobten Geschäftsmodell suchen und auf Unterstützung durch den Franchisegeber zurückgreifen möchten\, kann Franchise besonders attraktiv sein.\n\nDie Beratungstermine mit dem Franchiseexperten finden an folgenden Tagen statt:\n\n25.06.2026\n23.09.2026\n09.12.2026\n\nEine Terminvereinbarung ist erforderlich\, dazu kontaktieren Sie uns bitte direkt.  Anmeldung und weitere Informationen erhalten Sie bei der Ansprechpartnerin der IHK zu Essen unter folgend Link.\n\nIm Existenzgründungsportal des Ministeriums für Wirtschaft und Energie gibt es eine Ausgabe der Zeitschrift Gründerzeiten zum Download\, in welcher Sie darüber hinaus weitere Informationen zum Franchising erhalten.
URL:https://nachfolge.ruhr/termin/franchise-sprechtag-2/
LOCATION:IHK Essen\, Am Waldthausenpark 2\, Essen\, 45127\, Germany
CATEGORIES:Sprechtag
ORGANIZER;CN="IHK Mittleres Ruhrgebiet":MAILTO:hierweck@bochum.ihk.de
END:VEVENT
BEGIN:VEVENT
DTSTART;TZID=Europe/Berlin:20260923T100000
DTEND;TZID=Europe/Berlin:20260924T160000
DTSTAMP:20260420T024052
CREATED:20260309T111139Z
LAST-MODIFIED:20260309T111139Z
UID:2084-1790157600-1790265600@nachfolge.ruhr
SUMMARY:CrossING - Karriere- und Lebensplanung für Ingenieur*innen: mit KI wird alles anders?
DESCRIPTION:Die IHK Mittleres Ruhrgebiet wird als Teil der Nachfolge Allianz Ruhr auch dieses Jahr wieder bei der CrossING Veranstaltung angehenden Ingenieur:innen der Ruhr-Universität Bochum die Unternehmensnachfolge näher bringen.
URL:https://nachfolge.ruhr/termin/crossing-karriere-und-lebensplanung-fuer-ingenieurinnen-mit-ki-wird-alles-anders/
LOCATION:Ruhr-Universität Bochum\, Universitätsstraße 150\, Bochum\, 44801\, Germany
CATEGORIES:Allgemeine Events
ORGANIZER;CN="Nachfolgeallianz":MAILTO:hierweck@bochum.ihk.de
END:VEVENT
END:VCALENDAR